BEGIN:VCALENDAR
VERSION:2.0
PRODID:-//NordseeHotel Borkum - ECPv6.15.18//NONSGML v1.0//EN
CALSCALE:GREGORIAN
METHOD:PUBLISH
X-WR-CALNAME:NordseeHotel Borkum
X-ORIGINAL-URL:https://nordseehotelborkum.de
X-WR-CALDESC:Veranstaltungen für NordseeHotel Borkum
REFRESH-INTERVAL;VALUE=DURATION:PT1H
X-Robots-Tag:noindex
X-PUBLISHED-TTL:PT1H
BEGIN:VTIMEZONE
TZID:UTC
BEGIN:STANDARD
TZOFFSETFROM:+0000
TZOFFSETTO:+0000
TZNAME:UTC
DTSTART:20250101T000000
END:STANDARD
END:VTIMEZONE
BEGIN:VEVENT
DTSTART;TZID=UTC:20260606T000000
DTEND;TZID=UTC:20260606T000000
DTSTAMP:20260424T201920
CREATED:20260405T105510Z
LAST-MODIFIED:20260407T112724Z
UID:39808-1780704000-1780704000@nordseehotelborkum.de
SUMMARY:BINGO
DESCRIPTION:Tim Lerke
URL:https://nordseehotelborkum.de/event/bingo/
LOCATION:Upholm-Hof\, Upholmstraße 45\, Borkum\, 26757
CATEGORIES:BLT
ATTACH;FMTTYPE=image/jpeg:https://nordseehotelborkum.de/wp-content/uploads/2026/04/Event_01.jpg
END:VEVENT
END:VCALENDAR